BEGIN:VCALENDAR
VERSION:2.0
PRODID:-//Det sker i Hørning - ECPv6.15.20//NONSGML v1.0//EN
CALSCALE:GREGORIAN
METHOD:PUBLISH
X-WR-CALNAME:Det sker i Hørning
X-ORIGINAL-URL:https://xn--detskerihrning-yqb.dk
X-WR-CALDESC:Begivenheder for Det sker i Hørning
REFRESH-INTERVAL;VALUE=DURATION:PT1H
X-Robots-Tag:noindex
X-PUBLISHED-TTL:PT1H
BEGIN:VTIMEZONE
TZID:UTC
BEGIN:STANDARD
TZOFFSETFROM:+0000
TZOFFSETTO:+0000
TZNAME:UTC
DTSTART:20240101T000000
END:STANDARD
END:VTIMEZONE
BEGIN:VEVENT
DTSTART;VALUE=DATE:20250208
DTEND;VALUE=DATE:20250217
DTSTAMP:20260420T083852
CREATED:20250123T110751Z
LAST-MODIFIED:20250123T110751Z
UID:4203-1738972800-1739750399@xn--detskerihrning-yqb.dk
SUMMARY:Skattejagt på biblioteket
DESCRIPTION:Skattejagten er inspireret af Sebastians Kleins bog ‘Verdens 100 mest truede dyr’ som handler om de dyr\, der er ved at forsvinde helt fra jordens overflade. \nGå på opdagelse på biblioteket og find 6 forskellige poster\, hvor du lærer om de truede dyr. Du kan f.eks. føle\, hvad dværgflodheste spiser\, veje en fugl eller måle en krokodille. \nSvar på spørgsmål undervejs og aflever dine svar i postkassen. Så er du med i konkurrencen om at vinde bogen ‘Verdens 100 mest truede dyr’ af Sebastian Klein. \nSkattejagten er tilgængelig i både den betjente og den selvbetjente åbningstid på alle 4 biblioteker i kommunen.
URL:https://xn--detskerihrning-yqb.dk/event/skattejagt-paa-biblioteket-2/
LOCATION:Hørning Bibliotek\, Rådhuspladsen 1\, Hørning\, 8362\, Denmark
ATTACH;FMTTYPE=image/jpeg:https://xn--detskerihrning-yqb.dk/wp-content/uploads/2025/01/Verdens-200-mest-truede-dyr-bogomslag-beskaaret-1.jpg
ORGANIZER;CN="H%C3%B8rning Bibliotek":MAILTO:hoerning.bibliotek@skanderborg.dk
END:VEVENT
BEGIN:VEVENT
DTSTART;TZID=UTC:20250208T080000
DTEND;TZID=UTC:20250216T220000
DTSTAMP:20260420T083852
CREATED:20250123T110710Z
LAST-MODIFIED:20250123T110710Z
UID:4198-1739001600-1739743200@xn--detskerihrning-yqb.dk
SUMMARY:Skattejagt på biblioteket
DESCRIPTION:Skattejagten er inspireret af Sebastians Kleins bog ‘Verdens 100 mest truede dyr’ som handler om de dyr\, der er ved at forsvinde helt fra jordens overflade. \nGå på opdagelse på biblioteket og find 6 forskellige poster\, hvor du lærer om de truede dyr. Du kan f.eks. føle\, hvad dværgflodheste spiser\, veje en fugl eller måle en krokodille. \nSvar på spørgsmål undervejs og aflever dine svar i postkassen. Så er du med i konkurrencen om at vinde bogen ‘Verdens 100 mest truede dyr’ af Sebastian Klein. \nSkattejagten er tilgængelig i både den betjente og den selvbetjente åbningstid på alle 4 biblioteker i kommunen.
URL:https://xn--detskerihrning-yqb.dk/event/skattejagt-paa-biblioteket/
LOCATION:Hørning Bibliotek\, Rådhuspladsen 1\, Hørning\, 8362\, Denmark
CATEGORIES:For Børn
ATTACH;FMTTYPE=image/jpeg:https://xn--detskerihrning-yqb.dk/wp-content/uploads/2025/01/Verdens-200-mest-truede-dyr-bogomslag-beskaaret.jpg
ORGANIZER;CN="H%C3%B8rning Bibliotek":MAILTO:hoerning.bibliotek@skanderborg.dk
END:VEVENT
BEGIN:VEVENT
DTSTART;TZID=UTC:20250217T140000
DTEND;TZID=UTC:20250217T160000
DTSTAMP:20260420T083852
CREATED:20240722T131422Z
LAST-MODIFIED:20240722T131422Z
UID:4015-1739800800-1739808000@xn--detskerihrning-yqb.dk
SUMMARY:Fra Vorbasse til Christiansborg
DESCRIPTION:Henrik Dam Kristensen vil i sit foredrag komme ind på den udvikling der er sket i de godt 30 år\, han var medlem af Folketinget. Herunder pressens rolle og effekten af nye sociale medier for det parlamentariske arbejde.\nHenrik Dam beskriver hverdagen som MF’er\, minister og Formand for Folketinget. Hvordan bliver et lovforslag til\, og hvordan foregår arbejdet i udvalgene. Han forsøger at komme bag om nogle af de ting\, som man måske ikke tænker så meget over i hverdagen. \nForedraget krydres med små anekdoter. \nDørene åbnes kl. 13.30
URL:https://xn--detskerihrning-yqb.dk/event/fra-vorbasse-til-christiansborg/
LOCATION:Sognegården\, Hørning
CATEGORIES:Seniorer
ATTACH;FMTTYPE=image/jpeg:https://xn--detskerihrning-yqb.dk/wp-content/uploads/2024/07/Henrik-Dam-Kristensen-Foto-Folketinget-scaled.jpg
ORGANIZER;CN="%C3%86ldreSagen H%C3%B8rning":MAILTO:hoerning@aeldresagen-post.dk
END:VEVENT
BEGIN:VEVENT
DTSTART;TZID=UTC:20250220T093000
DTEND;TZID=UTC:20250220T223000
DTSTAMP:20260420T083852
CREATED:20250123T101139Z
LAST-MODIFIED:20250123T101139Z
UID:4139-1740043800-1740090600@xn--detskerihrning-yqb.dk
SUMMARY:Baby og Barsel: Babymassage
DESCRIPTION:Et kærlighedsbrusebad til dig og din baby \nBabymassage er ikke kun en vidunderlig aktivitet for dig og din baby – det er også virkelig sundt! Når du masserer din baby\, frigives kærlighedshormonet oxytocin i jeres kroppe. Dette hormon gør jer glade\, afslappede og lykkelige\, samtidig med at det fremmer tilknytningen og styrker båndet mellem dig og din baby. \nPå workshoppen vil du blive guidet af Stefanie Vinther\, som er uddannet babymassageinstruktør. Du vil lære\, at give en helkrops massage af baby\, og hvordan du med massage og zoneterapi kan behandle din baby derhjemme for de mest normale ubalancer: overstimulering\, forstoppelse\, svær søvn\, snot og hoste etc. \nDu skal medbringe pusleunderlag/tisseunderlag og 2-3 stofbleer.\nFor babyer på 2-10 mdr. \n75 kr. pr. forælder pr. gang. Billet skal købes på forhånd.\nEt samarbejde mellem Skanderborg Kommunes Biblioteker og LOF Midtjylland.
URL:https://xn--detskerihrning-yqb.dk/event/baby-og-barsel-babymassage/
CATEGORIES:For Børn
ATTACH;FMTTYPE=image/jpeg:https://xn--detskerihrning-yqb.dk/wp-content/uploads/2025/01/Baby-og-barsel.jpg
ORGANIZER;CN="H%C3%B8rning Bibliotek":MAILTO:hoerning.bibliotek@skanderborg.dk
END:VEVENT
BEGIN:VEVENT
DTSTART;TZID=UTC:20250222T100000
DTEND;TZID=UTC:20250222T223500
DTSTAMP:20260420T083852
CREATED:20250123T101719Z
LAST-MODIFIED:20250123T101938Z
UID:4147-1740218400-1740263700@xn--detskerihrning-yqb.dk
SUMMARY:Børneforestilling: TØJ
DESCRIPTION:En eventyrrejse i identitet gennem stier og landskaber af tøj for de 1\,5-5-årige \nTØJ kan være alt for stort eller alt for småt. TØJ kan kradse\, kilde\, klistre\, stramme og varme – det kan være blødt\, groft\, strække sig eller være helt stift. TØJ kan komme helt galt på kroppen\, omvendt på eller knappes helt skævt.\n… Men TØJ er ikke bare TØJ…\nStrømpebukseben i høj hæl transformeres til en langhalset fugl\, ud af den pelsede kappe opstår en funky larve\, og er man egentlig én eller to til tango i den kæmpe nederdel?\nTØJ er leg med identitet\, leg med roller\, leg med bevægelse og dansestile\, leg med muligheder og begrænsninger\, leg med nye perspektiver.\nTØJ slipper fantasien og klædeskabets magi fri og tager publikum med i én lang\, foranderlig og undersøgende leg gennem landskaber af TØJ\, befolket af forunderlige TØJdyr.
URL:https://xn--detskerihrning-yqb.dk/event/boerneforestilling-toej/
LOCATION:Rådhusloftet\, Rådhuspladsen 1\, Hørning\, 8362\, Danmark
CATEGORIES:For Børn,Kultur,Musik
ATTACH;FMTTYPE=image/jpeg:https://xn--detskerihrning-yqb.dk/wp-content/uploads/2025/01/TOeJ-teaterforestilling.jpg
ORGANIZER;CN="H%C3%B8rning Bibliotek":MAILTO:hoerning.bibliotek@skanderborg.dk
END:VEVENT
BEGIN:VEVENT
DTSTART;TZID=UTC:20250225T190000
DTEND;TZID=UTC:20250225T210000
DTSTAMP:20260420T083852
CREATED:20250123T102207Z
LAST-MODIFIED:20250123T102636Z
UID:4155-1740510000-1740517200@xn--detskerihrning-yqb.dk
SUMMARY:Livestream af Offentlige foredrag i Naturvidenskab fra AU: DNA'en omkring os
DESCRIPTION:Vores planet er unik fordi livet kun eksisterer her – så vidt vi ved. Enhver\, der tilbringer et par timer udenfor i naturen\, vil hurtigt erkende den mangfoldighed af liv som trives i de mange forskellige økosystemer Jorden tilbyder. Hvad de færreste mennesker dog ved\, er at udover den rige mangfoldighed af levende organismer – fra bakterier til blåhvaler – er Jorden også rig på DNA-spor\, som disse organismer har efterladt. Noget af dette DNA stammer fra de mindste bakterier\, mens andet efterlades ved udskillelse af fx hudceller og kropsvæsker fra de største organismer. \nDette hedder miljø-DNA (eDNA) og det kan forskere indsamle og analysere – især takket være avanceret DNA-sekventeringsteknologi. En skovbund indeholder DNA fra planter og svampe\, en sø indeholder DNA fra fisk og frøer\, og selv luften er fyldt med DNA fra fugle og insekter. I løbet af det sidste årti har forskere derfor i stigende grad anvendt miljøDNA til at beskrive biodiversiteten i fortidens og nutidens økosystemer. Metoden har vist sig at være effektiv til at få information om både arter\, bestande og hele biologiske samfund i forskellige typer af økosystemer. \nI dette foredrag vil biolog Philip Francis Thomsen give et indblik i hvordan vores biodiversitet kan undersøges med miljøDNA-metoden\, som han selv har været én af pionererne bag. Du kan bl.a. høre om hans forskning indenfor miljøDNA til kortlægning af vores kystnære havnatur\, undersøgelser af diæten hos græssende køer og heste i rewilding projekter\, samt analyser af insekt-DNA fra blomster på artsrige overdrev. \nMedbringer du din egen kop til arrangementet\, gi’r vi kaffen.
URL:https://xn--detskerihrning-yqb.dk/event/livestream-af-offentlige-foredrag-i-naturvidenskab-fra-au/
LOCATION:Rådhusloftet\, Rådhuspladsen 1\, Hørning\, 8362\, Danmark
CATEGORIES:For Voksne,Foredrag,Kultur
ATTACH;FMTTYPE=image/jpeg:https://xn--detskerihrning-yqb.dk/wp-content/uploads/2025/01/Livestream-Naturvidenskab.jpg
ORGANIZER;CN="H%C3%B8rning Bibliotek":MAILTO:hoerning.bibliotek@skanderborg.dk
END:VEVENT
END:VCALENDAR