BEGIN:VCALENDAR
VERSION:2.0
PRODID:-//Det sker i Hørning - ECPv6.15.20//NONSGML v1.0//EN
CALSCALE:GREGORIAN
METHOD:PUBLISH
X-WR-CALNAME:Det sker i Hørning
X-ORIGINAL-URL:https://xn--detskerihrning-yqb.dk
X-WR-CALDESC:Begivenheder for Det sker i Hørning
REFRESH-INTERVAL;VALUE=DURATION:PT1H
X-Robots-Tag:noindex
X-PUBLISHED-TTL:PT1H
BEGIN:VTIMEZONE
TZID:UTC
BEGIN:STANDARD
TZOFFSETFROM:+0000
TZOFFSETTO:+0000
TZNAME:UTC
DTSTART:20230101T000000
END:STANDARD
END:VTIMEZONE
BEGIN:VTIMEZONE
TZID:Europe/Paris
BEGIN:DAYLIGHT
TZOFFSETFROM:+0100
TZOFFSETTO:+0200
TZNAME:CEST
DTSTART:20230326T010000
END:DAYLIGHT
BEGIN:STANDARD
TZOFFSETFROM:+0200
TZOFFSETTO:+0100
TZNAME:CET
DTSTART:20231029T010000
END:STANDARD
BEGIN:DAYLIGHT
TZOFFSETFROM:+0100
TZOFFSETTO:+0200
TZNAME:CEST
DTSTART:20240331T010000
END:DAYLIGHT
BEGIN:STANDARD
TZOFFSETFROM:+0200
TZOFFSETTO:+0100
TZNAME:CET
DTSTART:20241027T010000
END:STANDARD
BEGIN:DAYLIGHT
TZOFFSETFROM:+0100
TZOFFSETTO:+0200
TZNAME:CEST
DTSTART:20250330T010000
END:DAYLIGHT
BEGIN:STANDARD
TZOFFSETFROM:+0200
TZOFFSETTO:+0100
TZNAME:CET
DTSTART:20251026T010000
END:STANDARD
END:VTIMEZONE
BEGIN:VEVENT
DTSTART;TZID=UTC:20241106T180000
DTEND;TZID=UTC:20241106T203000
DTSTAMP:20260420T121530
CREATED:20241011T075741Z
LAST-MODIFIED:20241011T075807Z
UID:4089-1730916000-1730925000@xn--detskerihrning-yqb.dk
SUMMARY:Spis Sammen
DESCRIPTION:ÆldreSagen afholder Spis Sammen arrangement på Perronen onsdag den 6. november kl. 18.00
URL:https://xn--detskerihrning-yqb.dk/event/spis-sammen/
LOCATION:Perronen\, Sønderskovvej 15C\, 8362 Hørning\, Sønderskovvej 15C\, Hørning\, 8362
CATEGORIES:Seniorer
ATTACH;FMTTYPE=image/png:https://xn--detskerihrning-yqb.dk/wp-content/uploads/2024/10/spis-sammen-2.png
ORGANIZER;CN="%C3%86ldreSagen H%C3%B8rning":MAILTO:hoerning@aeldresagen-post.dk
END:VEVENT
BEGIN:VEVENT
DTSTART;TZID=Europe/Paris:20241106T190000
DTEND;TZID=Europe/Paris:20241106T220000
DTSTAMP:20260420T121530
CREATED:20240426T105751Z
LAST-MODIFIED:20240426T105751Z
UID:3885-1730919600-1730930400@xn--detskerihrning-yqb.dk
SUMMARY:ANDESPIL - Hørning Borgerforening
DESCRIPTION:Andespil onsdag den 6. November 2024 på Rådhusloftet kl. 19.00.     Dørene åbnes kl. 18.00.   OBS.  Brandmyndighederne tillader kun 150 personer i lokalet.
URL:https://xn--detskerihrning-yqb.dk/event/andespil-hoerning-borgerforening/
END:VEVENT
BEGIN:VEVENT
DTSTART;TZID=UTC:20241118T140000
DTEND;TZID=UTC:20241118T163000
DTSTAMP:20260420T121530
CREATED:20240722T102825Z
LAST-MODIFIED:20240722T102825Z
UID:4003-1731938400-1731947400@xn--detskerihrning-yqb.dk
SUMMARY:Jul på Vimmersvej
DESCRIPTION:René Jakobsen begejstrer gang på gang med sit forrygende Bamse Show\, hvor René med stemme og i udseende kommer tæt på Flemming ”Bamse” Jørgensen. I showet er der kendte julehits som ”Skal vi klippe vore julehjerter”\, ”White Christmas” m.m. vel at mærke sunget som ”Bamse” ville ha-ve sunget dem.\nDerudover masser af kendte hits som ”Vimmersvej”\, ”I en lille båd der gynger”\, ”Tænker altid på dig”\, etc. \nDørene åbnes kl. 13.30
URL:https://xn--detskerihrning-yqb.dk/event/jul-paa-vimmersvej/
LOCATION:Sognegården\, Hørning
CATEGORIES:Seniorer
ATTACH;FMTTYPE=image/jpeg:https://xn--detskerihrning-yqb.dk/wp-content/uploads/2024/07/Jul-paa-Vimmersvej.jpg
ORGANIZER;CN="%C3%86ldreSagen H%C3%B8rning":MAILTO:hoerning@aeldresagen-post.dk
END:VEVENT
BEGIN:VEVENT
DTSTART;TZID=UTC:20241122T163000
DTEND;TZID=UTC:20241122T180000
DTSTAMP:20260420T121530
CREATED:20240905T203146Z
LAST-MODIFIED:20241113T160604Z
UID:4047-1732293000-1732298400@xn--detskerihrning-yqb.dk
SUMMARY:Hørning Cityforening inviterer til Juletræstænding på torvet 22. november 2024 kl. 16.30🎄
DESCRIPTION:Hørning Cityforening inviterer igen i år til juletræstænding på Torvet v. Coop365. \nTid: fredag den 22. november 2024 kl. 16.30-18.00 \nKl. 16.30 – vi kalder på julemanden\, så han kan hjælpe os med at tænde juletræet \nSkanderborg Young Brass Band spiller musik og Julemanden\, Bamse Betjent og Frk. Flora synger julesange og danser om \njuletræet med alle børnene. \nBagefter vil der være mulighed for fotografering sammen med julemanden. \nDer vil være bogstavjagt i butikkernes vinduer. Kuponerne hentes i Superbrugsen\, Hørning. \nHørning Lions Q sælger gløgg og Æbleskiver \nVi glæder os til duften af jul og lyden af glade børn på Torvet denne eftermiddag/aften. \nTusind tak til Hørning Borgerforening for igen i år at opsætte og donere et juletræ til Torvet i Hørning. \n  \n 
URL:https://xn--detskerihrning-yqb.dk/event/juletraestaending-paa-torvet-%f0%9f%8e%84/
LOCATION:Torvet foran Coop365\, Nørre Alle\, Hørning\, 8362\, Danmark
END:VEVENT
END:VCALENDAR