BEGIN:VCALENDAR
VERSION:2.0
PRODID:-//Det sker i Hørning - ECPv6.15.20//NONSGML v1.0//EN
CALSCALE:GREGORIAN
METHOD:PUBLISH
X-ORIGINAL-URL:https://xn--detskerihrning-yqb.dk
X-WR-CALDESC:Begivenheder for Det sker i Hørning
REFRESH-INTERVAL;VALUE=DURATION:PT1H
X-Robots-Tag:noindex
X-PUBLISHED-TTL:PT1H
BEGIN:VTIMEZONE
TZID:UTC
BEGIN:STANDARD
TZOFFSETFROM:+0000
TZOFFSETTO:+0000
TZNAME:UTC
DTSTART:20230101T000000
END:STANDARD
END:VTIMEZONE
BEGIN:VEVENT
DTSTART;TZID=UTC:20240812T140000
DTEND;TZID=UTC:20240812T160000
DTSTAMP:20260420T155923
CREATED:20240722T093953Z
LAST-MODIFIED:20240722T093953Z
UID:3985-1723471200-1723478400@xn--detskerihrning-yqb.dk
SUMMARY:Hits fra skattekisten
DESCRIPTION:Carsten Bo er en garvet musiker og underholder\, der startede karrieren allerede som barnestjerne med flere grammofonplader (som de hed dengang tilbage i 70´erne) på samvittigheden. \nDa stemmen gik i overgang\, begyndte Carsten Bo som festmusiker sammen med forskellige dygtige musikere\, og i midten af 80′erne var Carsten Bo bl.a. med i “Klaus & Servants”. \nSiden 90´erne har Carsten Bo spillet både solo og sammen med Jon Kjærran i duoen “Carsten Bo & Jon”. \nDørene åbnes kl. 13.30
URL:https://xn--detskerihrning-yqb.dk/event/hits-fra-skattekisten/
LOCATION:Sognegården\, Hørning
CATEGORIES:For Voksne
ATTACH;FMTTYPE=image/jpeg:https://xn--detskerihrning-yqb.dk/wp-content/uploads/2024/07/Carsten-Bo_3.jpg
ORGANIZER;CN="%C3%86ldreSagen H%C3%B8rning":MAILTO:hoerning@aeldresagen-post.dk
END:VEVENT
END:VCALENDAR