BEGIN:VCALENDAR
VERSION:2.0
PRODID:-//Det sker i Hørning - ECPv6.15.20//NONSGML v1.0//EN
CALSCALE:GREGORIAN
METHOD:PUBLISH
X-WR-CALNAME:Det sker i Hørning
X-ORIGINAL-URL:https://xn--detskerihrning-yqb.dk
X-WR-CALDESC:Begivenheder for Det sker i Hørning
REFRESH-INTERVAL;VALUE=DURATION:PT1H
X-Robots-Tag:noindex
X-PUBLISHED-TTL:PT1H
BEGIN:VTIMEZONE
TZID:UTC
BEGIN:STANDARD
TZOFFSETFROM:+0000
TZOFFSETTO:+0000
TZNAME:UTC
DTSTART:20240101T000000
END:STANDARD
END:VTIMEZONE
BEGIN:VEVENT
DTSTART;TZID=UTC:20250322T100000
DTEND;TZID=UTC:20250322T130000
DTSTAMP:20260420T090529
CREATED:20250303T094655Z
LAST-MODIFIED:20250303T094655Z
UID:4221-1742637600-1742648400@xn--detskerihrning-yqb.dk
SUMMARY:Art journal-formiddag på Rådhusloftet
DESCRIPTION:Aktivitetsgruppen Rådhusloftet inviterer til ART JOURNAL-FORMIDDAG FOR VOKSNE OG BØRN(fra ca. 8 år) \n‘Art journaling’ er kombinationen af skrift og visuel kunst. Vi starter kl 10 med en kort introduktion til\, hvordan du kommer i gang. Derefter er det bare drop-in. \nMedbring selv skitsebog med kraftige sider (mindst 150g/m2) og evt andet grej til at male\, tegne og klippe-klistre (fx gamle blade\, gavepapir\, servietter\, etc). Vi har også masser af materialer\, I kan bruge. \nArrangementet er gratis.
URL:https://xn--detskerihrning-yqb.dk/event/art-journal-formiddag-paa-raadhusloftet/
LOCATION:Rådhusloftet\, Rådhuspladsen 1\, Hørning\, 8362\, Danmark
CATEGORIES:For Børn,Foredrag
ATTACH;FMTTYPE=image/jpeg:https://xn--detskerihrning-yqb.dk/wp-content/uploads/2025/03/Art-journal-scaled.jpg
END:VEVENT
END:VCALENDAR