BEGIN:VCALENDAR
VERSION:2.0
PRODID:-//Det sker i Hørning - ECPv6.15.20//NONSGML v1.0//EN
CALSCALE:GREGORIAN
METHOD:PUBLISH
X-ORIGINAL-URL:https://xn--detskerihrning-yqb.dk
X-WR-CALDESC:Begivenheder for Det sker i Hørning
REFRESH-INTERVAL;VALUE=DURATION:PT1H
X-Robots-Tag:noindex
X-PUBLISHED-TTL:PT1H
BEGIN:VTIMEZONE
TZID:UTC
BEGIN:STANDARD
TZOFFSETFROM:+0000
TZOFFSETTO:+0000
TZNAME:UTC
DTSTART:20240101T000000
END:STANDARD
END:VTIMEZONE
BEGIN:VEVENT
DTSTART;TZID=UTC:20250317T140000
DTEND;TZID=UTC:20250317T160000
DTSTAMP:20260424T082722
CREATED:20240722T132506Z
LAST-MODIFIED:20240722T132506Z
UID:4021-1742220000-1742227200@xn--detskerihrning-yqb.dk
SUMMARY:Musikalske hits
DESCRIPTION:Flyv med\, når den tidligere pilot Flemming Gammelholm (kendt fra DR og DK4) agerer musikalsk rejseleder. Fra det danske kommer man ikke udenom afdøde ikoner som Kim Larsen\, Bamse\, John Mogensen\, Otto Brandenburg\, men også nulevende kunstnere får en sang med på vejen.\nBlandt andet er der livsbekræftende sange som Tørfisks Fuglene letter mod vinden (den med ”lev dit liv\, mens du har det”)\, Neighbours’ Alt mellem himmel og jord til festlige Grand Prix sange som Birthe Kjærs Vi maler byen rød og Stig Rossens Vi danser rock og rul. \nDørene åbnes kl. 13.30
URL:https://xn--detskerihrning-yqb.dk/event/musikalske-hits/
LOCATION:Sognegården\, Hørning
CATEGORIES:Seniorer
ATTACH;FMTTYPE=image/jpeg:https://xn--detskerihrning-yqb.dk/wp-content/uploads/2024/07/Flemming-Gammelholm-2-LAV-scaled.jpg
ORGANIZER;CN="%C3%86ldreSagen H%C3%B8rning":MAILTO:hoerning@aeldresagen-post.dk
END:VEVENT
END:VCALENDAR