BEGIN:VCALENDAR
VERSION:2.0
PRODID:-//Det sker i Hørning - ECPv6.15.20//NONSGML v1.0//EN
CALSCALE:GREGORIAN
METHOD:PUBLISH
X-WR-CALNAME:Det sker i Hørning
X-ORIGINAL-URL:https://xn--detskerihrning-yqb.dk
X-WR-CALDESC:Begivenheder for Det sker i Hørning
REFRESH-INTERVAL;VALUE=DURATION:PT1H
X-Robots-Tag:noindex
X-PUBLISHED-TTL:PT1H
BEGIN:VTIMEZONE
TZID:UTC
BEGIN:STANDARD
TZOFFSETFROM:+0000
TZOFFSETTO:+0000
TZNAME:UTC
DTSTART:20240101T000000
END:STANDARD
END:VTIMEZONE
BEGIN:VEVENT
DTSTART;TZID=UTC:20250313T100000
DTEND;TZID=UTC:20250313T233000
DTSTAMP:20260420T083852
CREATED:20250123T103138Z
LAST-MODIFIED:20250123T103154Z
UID:4171-1741860000-1741908600@xn--detskerihrning-yqb.dk
SUMMARY:Baby og Barsel: Førstehjælpsworkshop for forældre og bedsteforældre
DESCRIPTION:Vi er glade for at kunne byde jer velkommen til denne førstehjælpsworkshop\, designet specielt til forældre og bedsteforældre. Som de primære omsorgspersoner spiller I en afgørende rolle i børns liv og velvære. Det er derfor essentielt\, at I er godt forberedt på at håndtere nødsituationer\, som kan opstå i hverdagen. \nFormålet med denne workshop er: \n• At give jer praktisk viden og selvtillid til at reagere effektivt i nødsituationer.\n• At lære grundlæggende førstehjælpsteknikker\, som kan redde liv.\n• At skabe et trygt og sikkert miljø for jer og jeres kære. \nI løbet af workshoppen vil vi dække en række emner\, herunder: \n• Håndtering af almindelige børneskader og sygdomme.\n• Livreddende teknikker som hjerte-lunge-redning (HLR).\n• Forebyggelse og behandling af kvælning.\n• Sådan yder I førstehjælp ved ulykker i hjemmet. \nVores mål er at gøre jer i stand til at handle hurtigt og korrekt\, hvis uheldet skulle være ude. Vi opfordrer jer til at stille spørgsmål\, deltage aktivt i øvelserne\, og dele jeres egne erfaringer. Sammen kan vi skabe et sikkert og omsorgsfuldt miljø for jeres børn og børnebørn. \nEt samarbejde mellem Skanderborg Kommunes Biblioteker og LOF Midtjylland.
URL:https://xn--detskerihrning-yqb.dk/event/baby-og-barsel-foerstehjaelpsworkshop-for-foraeldre-og-bedsteforaeldre/
LOCATION:Hørning Bibliotek\, Rådhuspladsen 1\, Hørning\, 8362\, Denmark
CATEGORIES:For Børn,Foredrag
ATTACH;FMTTYPE=image/jpeg:https://xn--detskerihrning-yqb.dk/wp-content/uploads/2025/01/Baby-foerstehjaelp.jpg
ORGANIZER;CN="H%C3%B8rning Bibliotek":MAILTO:hoerning.bibliotek@skanderborg.dk
END:VEVENT
END:VCALENDAR