BEGIN:VCALENDAR
VERSION:2.0
PRODID:-//Det sker i Hørning - ECPv6.15.20//NONSGML v1.0//EN
CALSCALE:GREGORIAN
METHOD:PUBLISH
X-ORIGINAL-URL:https://xn--detskerihrning-yqb.dk
X-WR-CALDESC:Begivenheder for Det sker i Hørning
REFRESH-INTERVAL;VALUE=DURATION:PT1H
X-Robots-Tag:noindex
X-PUBLISHED-TTL:PT1H
BEGIN:VTIMEZONE
TZID:UTC
BEGIN:STANDARD
TZOFFSETFROM:+0000
TZOFFSETTO:+0000
TZNAME:UTC
DTSTART:20240101T000000
END:STANDARD
END:VTIMEZONE
BEGIN:VEVENT
DTSTART;TZID=UTC:20250113T140000
DTEND;TZID=UTC:20250113T160000
DTSTAMP:20260420T110639
CREATED:20240722T130125Z
LAST-MODIFIED:20240722T130125Z
UID:4009-1736776800-1736784000@xn--detskerihrning-yqb.dk
SUMMARY:On den 3'die alder
DESCRIPTION:Foredrag med Hanne Faldborg der afdækker\, at kroppen bremser for nytænkning. At sindet ikke er omstillingsparat. Det kan krop og sind blive! Under foredraget får alle nemme værktøjer og nye vinkler til at gøre den tredje alder til livets bedste.
URL:https://xn--detskerihrning-yqb.dk/event/on-den-3die-alder/
LOCATION:Sognegården\, Hørning
CATEGORIES:Seniorer
ATTACH;FMTTYPE=image/png:https://xn--detskerihrning-yqb.dk/wp-content/uploads/2024/07/hanne_faldborg.png
ORGANIZER;CN="%C3%86ldreSagen H%C3%B8rning":MAILTO:hoerning@aeldresagen-post.dk
END:VEVENT
END:VCALENDAR