BEGIN:VCALENDAR
VERSION:2.0
PRODID:-//Det sker i Hørning - ECPv6.15.20//NONSGML v1.0//EN
CALSCALE:GREGORIAN
METHOD:PUBLISH
X-WR-CALNAME:Det sker i Hørning
X-ORIGINAL-URL:https://xn--detskerihrning-yqb.dk
X-WR-CALDESC:Begivenheder for Det sker i Hørning
REFRESH-INTERVAL;VALUE=DURATION:PT1H
X-Robots-Tag:noindex
X-PUBLISHED-TTL:PT1H
BEGIN:VTIMEZONE
TZID:UTC
BEGIN:STANDARD
TZOFFSETFROM:+0000
TZOFFSETTO:+0000
TZNAME:UTC
DTSTART:20230101T000000
END:STANDARD
END:VTIMEZONE
BEGIN:VEVENT
DTSTART;TZID=UTC:20241122T163000
DTEND;TZID=UTC:20241122T180000
DTSTAMP:20260420T134142
CREATED:20240905T203146Z
LAST-MODIFIED:20241113T160604Z
UID:4047-1732293000-1732298400@xn--detskerihrning-yqb.dk
SUMMARY:Hørning Cityforening inviterer til Juletræstænding på torvet 22. november 2024 kl. 16.30🎄
DESCRIPTION:Hørning Cityforening inviterer igen i år til juletræstænding på Torvet v. Coop365. \nTid: fredag den 22. november 2024 kl. 16.30-18.00 \nKl. 16.30 – vi kalder på julemanden\, så han kan hjælpe os med at tænde juletræet \nSkanderborg Young Brass Band spiller musik og Julemanden\, Bamse Betjent og Frk. Flora synger julesange og danser om \njuletræet med alle børnene. \nBagefter vil der være mulighed for fotografering sammen med julemanden. \nDer vil være bogstavjagt i butikkernes vinduer. Kuponerne hentes i Superbrugsen\, Hørning. \nHørning Lions Q sælger gløgg og Æbleskiver \nVi glæder os til duften af jul og lyden af glade børn på Torvet denne eftermiddag/aften. \nTusind tak til Hørning Borgerforening for igen i år at opsætte og donere et juletræ til Torvet i Hørning. \n  \n 
URL:https://xn--detskerihrning-yqb.dk/event/juletraestaending-paa-torvet-%f0%9f%8e%84/
LOCATION:Torvet foran Coop365\, Nørre Alle\, Hørning\, 8362\, Danmark
END:VEVENT
END:VCALENDAR