BEGIN:VCALENDAR
VERSION:2.0
PRODID:-//Det sker i Hørning - ECPv6.15.20//NONSGML v1.0//EN
CALSCALE:GREGORIAN
METHOD:PUBLISH
X-ORIGINAL-URL:https://xn--detskerihrning-yqb.dk
X-WR-CALDESC:Begivenheder for Det sker i Hørning
REFRESH-INTERVAL;VALUE=DURATION:PT1H
X-Robots-Tag:noindex
X-PUBLISHED-TTL:PT1H
BEGIN:VTIMEZONE
TZID:UTC
BEGIN:STANDARD
TZOFFSETFROM:+0000
TZOFFSETTO:+0000
TZNAME:UTC
DTSTART:20230101T000000
END:STANDARD
END:VTIMEZONE
BEGIN:VEVENT
DTSTART;TZID=UTC:20240916T140000
DTEND;TZID=UTC:20240916T160000
DTSTAMP:20260420T155457
CREATED:20240722T094532Z
LAST-MODIFIED:20240722T094532Z
UID:3991-1726495200-1726502400@xn--detskerihrning-yqb.dk
SUMMARY:Kendte hits
DESCRIPTION:Ægteparret Jeanet og Rune Møller Nielsen synger kendte toner fra musicals\, danske film\, operetter og populærmusik. De underholder med masser af hits – både dem til at smile af\, dem til at knibe en tåre til og noget ind i mellem til at synge med på.\nDeres repetoire spænder vidt\, og omfatter bl.a.: Sommer i Tyrol\, Phantom Of The Opera\, Forelsket i København\, Skibet skal sejle i nat\, Mød mig på Cassiopeia samt mange flere film og Grand Prix hits.\nSangene bliver let bundet sammen med deres egen historie om at finde kærligheden på tværs af landet\, gennem sang og musik.\nDørene åbnes kl. 13.30
URL:https://xn--detskerihrning-yqb.dk/event/kendte-hits/
LOCATION:Sognegården\, Hørning
CATEGORIES:For Voksne
ATTACH;FMTTYPE=image/jpeg:https://xn--detskerihrning-yqb.dk/wp-content/uploads/2024/07/Jeanet-og-Rune-Moeller-Nielsen_1.jpg
ORGANIZER;CN="%C3%86ldreSagen H%C3%B8rning":MAILTO:hoerning@aeldresagen-post.dk
END:VEVENT
END:VCALENDAR