BEGIN:VCALENDAR
VERSION:2.0
PRODID:-//Det sker i Hørning - ECPv6.15.20//NONSGML v1.0//EN
CALSCALE:GREGORIAN
METHOD:PUBLISH
X-ORIGINAL-URL:https://xn--detskerihrning-yqb.dk
X-WR-CALDESC:Begivenheder for Det sker i Hørning
REFRESH-INTERVAL;VALUE=DURATION:PT1H
X-Robots-Tag:noindex
X-PUBLISHED-TTL:PT1H
BEGIN:VTIMEZONE
TZID:UTC
BEGIN:STANDARD
TZOFFSETFROM:+0000
TZOFFSETTO:+0000
TZNAME:UTC
DTSTART:20230101T000000
END:STANDARD
END:VTIMEZONE
BEGIN:VEVENT
DTSTART;TZID=UTC:20240623T170000
DTEND;TZID=UTC:20240623T170000
DTSTAMP:20260420T200803
CREATED:20240515T143524Z
LAST-MODIFIED:20240615T183928Z
UID:3938-1719162000-1719162000@xn--detskerihrning-yqb.dk
SUMMARY:Sankthansaften
DESCRIPTION:Blå spejder Hørning afholder igen i år Sankthans bål. Alle er velkomne.\nDer vil være bål\, aktiviteter for børn og mulighed for køb af mad og drikke.\nSuper Brugsen sponsorerer snobrød og brandmændene lægger vejen forbi.\nKl. 17 er vi klar med snobrød\, øl og vand.\nKl. 18 tændes bålet \nMedbring evt. tæppe til at sidde på.\nVi glæder os til at se jer
URL:https://xn--detskerihrning-yqb.dk/event/sankthansaften/
LOCATION:Byparken Hørning (ved Åskolen)\, Hørning\, 8362\, Danmark
CATEGORIES:For Børn,For Voksne
ATTACH;FMTTYPE=image/jpeg:https://xn--detskerihrning-yqb.dk/wp-content/uploads/2024/05/baal.jpg
ORGANIZER;CN="DDS H%C3%B8rning":MAILTO:formand@ddshorning.dk
END:VEVENT
BEGIN:VEVENT
DTSTART;TZID=UTC:20240623T100000
DTEND;TZID=UTC:20240623T120000
DTSTAMP:20260420T200803
CREATED:20240529T060015Z
LAST-MODIFIED:20240529T060015Z
UID:3956-1719136800-1719144000@xn--detskerihrning-yqb.dk
SUMMARY:Hørning Løbet
DESCRIPTION:Med et stort ønske fra mange i Hørning og omegn åbnes der nu op for et 5 km løb i byen 🏃‍♀️🏃‍♂️💨 \nSå tag dine naboer\, venner\, kollegaer\, eller dit lokale sportshold med til Hørning og udfordre dem.\nDer er plads til alle uanset niveau. \nStart- og målområde foran Hørning Hallen 🏁 \nDer vil være præmier samt forplejning efter løbet fra gode lokale sponsorer ⭐️ \nHele overskuddet går ubeskåret som en donation til Hørning Idrætscenter 🙌🏼
URL:https://xn--detskerihrning-yqb.dk/event/hoerning-loebet/
LOCATION:Hørning Hallen\, Toftevej 53\, Hørning\, 8362\, Danmark
CATEGORIES:Sport
ATTACH;FMTTYPE=image/jpeg:https://xn--detskerihrning-yqb.dk/wp-content/uploads/2024/05/417707153_10161044668119600_3809261650004832133_n.jpg
END:VEVENT
END:VCALENDAR