BEGIN:VCALENDAR
VERSION:2.0
PRODID:-//Det sker i Hørning - ECPv6.15.20//NONSGML v1.0//EN
CALSCALE:GREGORIAN
METHOD:PUBLISH
X-ORIGINAL-URL:https://xn--detskerihrning-yqb.dk
X-WR-CALDESC:Begivenheder for Det sker i Hørning
REFRESH-INTERVAL;VALUE=DURATION:PT1H
X-Robots-Tag:noindex
X-PUBLISHED-TTL:PT1H
BEGIN:VTIMEZONE
TZID:UTC
BEGIN:STANDARD
TZOFFSETFROM:+0000
TZOFFSETTO:+0000
TZNAME:UTC
DTSTART:20230101T000000
END:STANDARD
END:VTIMEZONE
BEGIN:VEVENT
DTSTART;TZID=UTC:20240601T100000
DTEND;TZID=UTC:20240601T140000
DTSTAMP:20260420T200138
CREATED:20240129T152607Z
LAST-MODIFIED:20240530T055627Z
UID:3724-1717236000-1717250400@xn--detskerihrning-yqb.dk
SUMMARY:Foreningernes dag - en spændende dag for store og små på torvet i Hørning...
DESCRIPTION:Foreningernes dag bliver en blanding af en masse spændende aktiviteter 🌞 \nKl. 10 står Hørning Cityforening og Lions Q klar i teltet med 200 smurte rundstykker\, kaffe og juice. \nHørning Borgerforening sørger for flagallé igennem byen  \nDu kan bl.a. opleve: \n\nHørning Håndbold kommer med et “Skydetelt”\nHørning Floorball\nHørning Bordtennis Klub – prøv bordtennis i teltet i samarbejde med HOME\nFDF – Afprøv dine grænser og ram målet\nDDS Hørning – Bålfad\, snobrød m.m.\nÆldre Sagen og Besøgs- og Hjælpetjenesten – hvem er vi?\nHørning Kirke – sjove stole og menighedsrådsvalg\nLions Q Hørning – tombola m.m\nLions – Møde et par medlemmer og høre mere om\, hvad Lions gør i Hørning\nHjemmeværnet kommer og viser noget af deres udstyr frem\nÅkanderne er kreative\nHørning Svømmeklub\nHospice Østjylland\n\nButikkerne laver også en masse sjov: \n\nMesterslagteren griller foran butikken\nRøde Kors Butikken: Tombola\, saftevand og konkurrence\nMaluna: liv og glade dag foran butikken\nMiddelfart Sparekasse: Få en tatovering\nSuperbrugsen griller og har ølsmagning\nAlexandra´s rykker ud på Torvet foran butikken\n\nBemærk at Torvet vil være spærret for gennemkørende trafik. Omkørsel via Vestervej og Adslevvej. \n  \n 
URL:https://xn--detskerihrning-yqb.dk/event/foreningernes-dag-2/
LOCATION:Nybolig Hørning og Stilling\, Nørre Alle 40\, Hørning\, 8362\, Danmark
CATEGORIES:For Børn,For Voksne,Handel
ATTACH;FMTTYPE=image/jpeg:https://xn--detskerihrning-yqb.dk/wp-content/uploads/2024/01/IMG-7787-1-scaled.jpg
ORGANIZER;CN="H%C3%B8rning Cityforening":MAILTO:info@hoerningcity.dk
END:VEVENT
END:VCALENDAR