BEGIN:VCALENDAR
VERSION:2.0
PRODID:-//Det sker i Hørning - ECPv6.15.20//NONSGML v1.0//EN
CALSCALE:GREGORIAN
METHOD:PUBLISH
X-WR-CALNAME:Det sker i Hørning
X-ORIGINAL-URL:https://xn--detskerihrning-yqb.dk
X-WR-CALDESC:Begivenheder for Det sker i Hørning
REFRESH-INTERVAL;VALUE=DURATION:PT1H
X-Robots-Tag:noindex
X-PUBLISHED-TTL:PT1H
BEGIN:VTIMEZONE
TZID:UTC
BEGIN:STANDARD
TZOFFSETFROM:+0000
TZOFFSETTO:+0000
TZNAME:UTC
DTSTART:20230101T000000
END:STANDARD
END:VTIMEZONE
BEGIN:VEVENT
DTSTART;TZID=UTC:20240528T123000
DTEND;TZID=UTC:20240528T143000
DTSTAMP:20260420T200021
CREATED:20240502T125807Z
LAST-MODIFIED:20240502T125807Z
UID:3903-1716899400-1716906600@xn--detskerihrning-yqb.dk
SUMMARY:Mandefrokost
DESCRIPTION:Den Frivillige besøgs- og hjælpetjeneste i samarbejde med Ældre Sagen Hørning holder Mandefrokost i Cafeen på Præstehaven den 28. maj kl. 12.30
URL:https://xn--detskerihrning-yqb.dk/event/mandefrokost/
LOCATION:Cafeen\, Præstehaven\, Vestervej 1\, Hørning\, 8362\, Danmark
CATEGORIES:Seniorer
ATTACH;FMTTYPE=image/png:https://xn--detskerihrning-yqb.dk/wp-content/uploads/2024/05/Mandefrokost.png
ORGANIZER;CN="%C3%86ldreSagen H%C3%B8rning":MAILTO:hoerning@aeldresagen-post.dk
END:VEVENT
END:VCALENDAR