BEGIN:VCALENDAR
VERSION:2.0
PRODID:-//Det sker i Hørning - ECPv6.15.20//NONSGML v1.0//EN
CALSCALE:GREGORIAN
METHOD:PUBLISH
X-ORIGINAL-URL:https://xn--detskerihrning-yqb.dk
X-WR-CALDESC:Begivenheder for Det sker i Hørning
REFRESH-INTERVAL;VALUE=DURATION:PT1H
X-Robots-Tag:noindex
X-PUBLISHED-TTL:PT1H
BEGIN:VTIMEZONE
TZID:UTC
BEGIN:STANDARD
TZOFFSETFROM:+0000
TZOFFSETTO:+0000
TZNAME:UTC
DTSTART:20230101T000000
END:STANDARD
END:VTIMEZONE
BEGIN:VEVENT
DTSTART;TZID=UTC:20240522T193000
DTEND;TZID=UTC:20240522T210000
DTSTAMP:20260420T212719
CREATED:20240411T092443Z
LAST-MODIFIED:20240411T092443Z
UID:3872-1716406200-1716411600@xn--detskerihrning-yqb.dk
SUMMARY:Bliv klogere på Rammstein: Ved GAFFA-anmelder Alexander Hemstedt
DESCRIPTION:Kom med på en rejse\, der fortæller om Tysklands største kultureksport: RAMMSTEIN.\nRammstein er kendt for at levere “The best show on earth\, something you must see before you die” (citat Rolling Stone Magazine). Rammstein er endnu en gang koncertaktuelle i Danmark\, hvor de spiller i Valbyparken i København en udsolgt koncert foran 50.000 mennesker den 5/7/2024. \nKom med på en rejse\, hvor blandt andet følgende spørgsmål besvares: Hvem og hvad er Rammstein? Hvorfor er Rammstein unikke? Må man fortsat lytte til Rammstein til trods for “Lindemann-Gate”? Hvilken betydning har og havde bandets album og udvalgte sange for bandet og ikke mindst metal- og hard-rock-musikken? Hvilken betydning har Rammstein som helkunstværk i dag? \nMusikformidler\, skribent og anmelder for Skandinaviens største musikmagasin GAFFA\, Alexander Hemstedt\, er også GAFFAs Rammstein-ekspert. Han har eksempelvis været med i “Go’ Morgen Danmark”\, hos TV2 News\, Radio4 (“Missionen” med Tony Scott samt “Genau” med Thomas Schumann)\, Radio 24syv (“Musik på 24syv” med Stine Omega) og Radio Victoria som Rammstein-ekspert. Alexander Hemstedt vil introducere til bandet og kunstværket Rammstein. \nDet bliver heavy!
URL:https://xn--detskerihrning-yqb.dk/event/bliv-klogere-paa-rammstein-ved-gaffa-anmelder-alexander-hemstedt/
LOCATION:Rådhusloftet\, Rådhuspladsen 1\, Hørning\, 8362\, Danmark
CATEGORIES:For Voksne,Foredrag,Kultur,Musik,Seniorer
ATTACH;FMTTYPE=image/jpeg:https://xn--detskerihrning-yqb.dk/wp-content/uploads/2024/04/Alexander-Helmstedt-Rammstein.jpeg
END:VEVENT
END:VCALENDAR