BEGIN:VCALENDAR
VERSION:2.0
PRODID:-//Det sker i Hørning - ECPv6.15.20//NONSGML v1.0//EN
CALSCALE:GREGORIAN
METHOD:PUBLISH
X-WR-CALNAME:Det sker i Hørning
X-ORIGINAL-URL:https://xn--detskerihrning-yqb.dk
X-WR-CALDESC:Begivenheder for Det sker i Hørning
REFRESH-INTERVAL;VALUE=DURATION:PT1H
X-Robots-Tag:noindex
X-PUBLISHED-TTL:PT1H
BEGIN:VTIMEZONE
TZID:UTC
BEGIN:STANDARD
TZOFFSETFROM:+0000
TZOFFSETTO:+0000
TZNAME:UTC
DTSTART:20230101T000000
END:STANDARD
END:VTIMEZONE
BEGIN:VEVENT
DTSTART;TZID=UTC:20240425T150000
DTEND;TZID=UTC:20240425T180000
DTSTAMP:20260420T225756
CREATED:20240411T093152Z
LAST-MODIFIED:20240411T093152Z
UID:3878-1714057200-1714068000@xn--detskerihrning-yqb.dk
SUMMARY:Klima-markedsplads
DESCRIPTION:Kom til Klima-markedsplads på Rådhusloftet på Hørning Bibliotek og vær med til at vælge vinderen af “Grøn Skanderborg prisen”\nRådhusloftet omdannes den 25. april til en klimamarkedsplads\,hvor du blandt andet kan: \nhøre en sjov og tankevækkende klimakoncert\nfå tips og tricks til affaldssortering og\nenergibesparelser\nse en smuk klimaudstilling\nbygge musikinstrumenter ud af affald\nhøre om ’Climate-fiction” litteratur\nberegne personlige klimavaner\nbytte tøj og bøger\nOg meget mere…\nDer serveres klimavenlige snacks og du skal huske tøj og bøger til byttebiksen \nProgram:\n15:00 Klimamarkedsplads åbner\n16:30 Klimakoncert\n17:00 Uddeling af klimapriser\n18:00 Tak for i dag \nHUSK – tøj og bøger til byttebiksen.  \nArrangementet er både for børn\, unge og voksne.
URL:https://xn--detskerihrning-yqb.dk/event/klima-markedsplads/
LOCATION:Rådhusloftet\, Rådhuspladsen 1\, Hørning\, 8362\, Danmark
CATEGORIES:For Børn,For Voksne,Kultur,Seniorer
ATTACH;FMTTYPE=image/png:https://xn--detskerihrning-yqb.dk/wp-content/uploads/2024/04/klimamarkedsplads.png
ORGANIZER;CN="H%C3%B8rning Bibliotek":MAILTO:hoerning.bibliotek@skanderborg.dk
END:VEVENT
END:VCALENDAR