BEGIN:VCALENDAR
VERSION:2.0
PRODID:-//Det sker i Hørning - ECPv6.15.20//NONSGML v1.0//EN
CALSCALE:GREGORIAN
METHOD:PUBLISH
X-ORIGINAL-URL:https://xn--detskerihrning-yqb.dk
X-WR-CALDESC:Begivenheder for Det sker i Hørning
REFRESH-INTERVAL;VALUE=DURATION:PT1H
X-Robots-Tag:noindex
X-PUBLISHED-TTL:PT1H
BEGIN:VTIMEZONE
TZID:UTC
BEGIN:STANDARD
TZOFFSETFROM:+0000
TZOFFSETTO:+0000
TZNAME:UTC
DTSTART:20230101T000000
END:STANDARD
END:VTIMEZONE
BEGIN:VEVENT
DTSTART;TZID=UTC:20240415T140000
DTEND;TZID=UTC:20240415T160000
DTSTAMP:20260420T225950
CREATED:20240408T092919Z
LAST-MODIFIED:20240408T093149Z
UID:3855-1713189600-1713196800@xn--detskerihrning-yqb.dk
SUMMARY:Foredrag om digteren Jens Rosendal
DESCRIPTION:Ældre Sagen Hørning får besøg af Anne Knudsen som fortæller om JENS ROSENDALS liv og digtning.
URL:https://xn--detskerihrning-yqb.dk/event/foredrag-om-digteren-jens-rosendal/
LOCATION:Sognegården\, Hørning
CATEGORIES:For Voksne
ATTACH;FMTTYPE=image/png:https://xn--detskerihrning-yqb.dk/wp-content/uploads/2024/04/DIGTEREN-JENS-ROSENDAL.png
END:VEVENT
END:VCALENDAR