BEGIN:VCALENDAR
VERSION:2.0
PRODID:-//Det sker i Hørning - ECPv6.15.20//NONSGML v1.0//EN
CALSCALE:GREGORIAN
METHOD:PUBLISH
X-ORIGINAL-URL:https://xn--detskerihrning-yqb.dk
X-WR-CALDESC:Begivenheder for Det sker i Hørning
REFRESH-INTERVAL;VALUE=DURATION:PT1H
X-Robots-Tag:noindex
X-PUBLISHED-TTL:PT1H
BEGIN:VTIMEZONE
TZID:UTC
BEGIN:STANDARD
TZOFFSETFROM:+0000
TZOFFSETTO:+0000
TZNAME:UTC
DTSTART:20230101T000000
END:STANDARD
END:VTIMEZONE
BEGIN:VEVENT
DTSTART;TZID=UTC:20240326T192000
DTEND;TZID=UTC:20240326T210000
DTSTAMP:20260421T002440
CREATED:20240325T103222Z
LAST-MODIFIED:20240325T103222Z
UID:3837-1711480800-1711486800@xn--detskerihrning-yqb.dk
SUMMARY:Pokalkamp - 5. runde 3. divisions damer - Hørning Håndbold
DESCRIPTION:Tirsdag den 26/3-2024 kl. 19.30 i Supberbrugsen Arena. \n  \n3. divisionsdamerne\, der lige er rykket op i 2. division fra næste sæson\, får besøg af 1. divisions tophold Holstebro Håndbold. \n  \nKom og skab en god kulisse og giv dameholdet stor opbakning.
URL:https://xn--detskerihrning-yqb.dk/event/pokalkamp-5-runde-3-divisions-damer-hoerning-haandbold/
LOCATION:Hørning Hallen\, Toftevej 53\, Hørning\, 8362\, Danmark
CATEGORIES:For Børn,For Voksne,Sport
END:VEVENT
END:VCALENDAR